Package: msa Version: 1.36.1 Command: /home/biocbuild/bbs-3.19-bioc/R/bin/R CMD INSTALL msa StartedAt: 2024-10-16 15:54:42 -0400 (Wed, 16 Oct 2024) EndedAt: 2024-10-16 15:58:40 -0400 (Wed, 16 Oct 2024) EllapsedTime: 238.2 seconds RetCode: 0 Status: OK