Package: msa Version: 1.36.0 Command: /Library/Frameworks/R.framework/Resources/bin/R CMD INSTALL msa StartedAt: 2024-06-09 15:08:49 -0400 (Sun, 09 Jun 2024) EndedAt: 2024-06-09 15:16:18 -0400 (Sun, 09 Jun 2024) EllapsedTime: 449.1 seconds RetCode: 0 Status: OK