Package: msa Version: 1.36.1 Command: rm -rf msa.buildbin-libdir && mkdir msa.buildbin-libdir && /Users/biocbuild/BBS/utils/build-universal.sh msa_1.36.1.tar.gz /Library/Frameworks/R.framework/Resources/bin/R msa.buildbin-libdir StartedAt: 2024-10-18 19:35:20 -0400 (Fri, 18 Oct 2024) EndedAt: 2024-10-18 19:42:33 -0400 (Fri, 18 Oct 2024) EllapsedTime: 433.1 seconds RetCode: 0 Status: OK PackageFile: msa_1.36.1.tgz PackageFileSize: 1.694 MiB