Package: msa Version: 1.36.1 Maintainer: Ulrich Bodenhofer MaintainerEmail: ulrich at bodenhofer.com git_url: https://git.bioconductor.org/packages/msa git_branch: RELEASE_3_19 git_last_commit: 4ee8e73 git_last_commit_date: 2024-07-23 09:34:25 -0400 (Tue, 23 Jul 2024)