Package: msPurity Version: 1.30.1 Command: E:\biocbuild\bbs-3.19-bioc\R\bin\R.exe CMD INSTALL msPurity StartedAt: 2024-10-16 16:23:30 -0400 (Wed, 16 Oct 2024) EndedAt: 2024-10-16 16:24:15 -0400 (Wed, 16 Oct 2024) EllapsedTime: 45.8 seconds RetCode: 0 Status: OK