Package: msPurity Version: 1.30.1 Command: E:\biocbuild\bbs-3.19-bioc\R\bin\R.exe CMD check --no-multiarch --install=check:msPurity.install-out.txt --library=E:\biocbuild\bbs-3.19-bioc\R\library --no-vignettes --timings msPurity_1.30.1.tar.gz StartedAt: 2024-10-17 03:42:05 -0400 (Thu, 17 Oct 2024) EndedAt: 2024-10-17 04:00:54 -0400 (Thu, 17 Oct 2024) EllapsedTime: 1128.5 seconds RetCode: 0 Status: OK CheckDir: msPurity.Rcheck Warnings: 0