Package: msPurity Version: 1.30.1 Command: chmod a+r msPurity -R && E:\biocbuild\bbs-3.19-bioc\R\bin\R.exe CMD build --keep-empty-dirs --no-resave-data msPurity StartedAt: 2024-10-16 20:32:33 -0400 (Wed, 16 Oct 2024) EndedAt: 2024-10-16 20:43:24 -0400 (Wed, 16 Oct 2024) EllapsedTime: 650.9 seconds RetCode: 0 Status: OK PackageFile: msPurity_1.30.1.tar.gz PackageFileSize: 11.28 MiB