Package: msPurity Version: 1.30.1 Command: rm -rf msPurity.buildbin-libdir && mkdir msPurity.buildbin-libdir && E:\biocbuild\bbs-3.19-bioc\R\bin\R.exe CMD INSTALL --build --library=msPurity.buildbin-libdir msPurity_1.30.1.tar.gz StartedAt: 2024-10-17 08:12:27 -0400 (Thu, 17 Oct 2024) EndedAt: 2024-10-17 08:13:20 -0400 (Thu, 17 Oct 2024) EllapsedTime: 52.3 seconds RetCode: 0 Status: OK PackageFile: msPurity_1.30.1.zip PackageFileSize: 11.34 MiB