Package: msPurity Version: 1.30.1 Command: chmod a+r msPurity -R && F:\biocbuild\bbs-3.19-bioc\R\bin\R.exe CMD build --keep-empty-dirs --no-resave-data msPurity StartedAt: 2024-06-26 20:19:25 -0400 (Wed, 26 Jun 2024) EndedAt: 2024-06-26 20:59:25 -0400 (Wed, 26 Jun 2024) EllapsedTime: 2400.6 seconds RetCode: None Status: TIMEOUT PackageFile: None PackageFileSize: NA