Package: msPurity Version: 1.30.1 Command: rm -rf msPurity.buildbin-libdir && mkdir msPurity.buildbin-libdir && F:\biocbuild\bbs-3.19-bioc\R\bin\R.exe CMD INSTALL --build --library=msPurity.buildbin-libdir msPurity_1.30.1.tar.gz StartedAt: 2024-06-24 17:03:38 -0400 (Mon, 24 Jun 2024) EndedAt: 2024-06-24 17:05:36 -0400 (Mon, 24 Jun 2024) EllapsedTime: 117.9 seconds RetCode: 0 Status: OK PackageFile: msPurity_1.30.1.zip PackageFileSize: 11.34 MiB