Package: msPurity Version: 1.30.1 Command: /home/biocbuild/bbs-3.19-bioc/R/bin/R CMD INSTALL msPurity StartedAt: 2024-10-16 16:04:32 -0400 (Wed, 16 Oct 2024) EndedAt: 2024-10-16 16:04:44 -0400 (Wed, 16 Oct 2024) EllapsedTime: 11.6 seconds RetCode: 0 Status: OK