Package: msPurity Version: 1.30.1 Command: /home/biocbuild/bbs-3.19-bioc/R/bin/R CMD check --install=check:msPurity.install-out.txt --library=/home/biocbuild/bbs-3.19-bioc/R/site-library --timings msPurity_1.30.1.tar.gz StartedAt: 2024-10-17 02:49:44 -0400 (Thu, 17 Oct 2024) EndedAt: 2024-10-17 03:08:41 -0400 (Thu, 17 Oct 2024) EllapsedTime: 1136.5 seconds RetCode: 0 Status: OK CheckDir: msPurity.Rcheck Warnings: 0