Package: msPurity Version: 1.30.1 Command: /Library/Frameworks/R.framework/Resources/bin/R CMD check --install=check:msPurity.install-out.txt --library=/Library/Frameworks/R.framework/Resources/library --no-vignettes --timings msPurity_1.30.1.tar.gz StartedAt: 2024-06-09 21:44:54 -0400 (Sun, 09 Jun 2024) EndedAt: 2024-06-09 21:58:12 -0400 (Sun, 09 Jun 2024) EllapsedTime: 798.6 seconds RetCode: 0 Status: OK CheckDir: msPurity.Rcheck Warnings: 0