Package: msPurity Version: 1.30.1 Command: /Library/Frameworks/R.framework/Resources/bin/R CMD build --keep-empty-dirs --no-resave-data msPurity StartedAt: 2024-06-09 17:25:34 -0400 (Sun, 09 Jun 2024) EndedAt: 2024-06-09 17:35:08 -0400 (Sun, 09 Jun 2024) EllapsedTime: 574.1 seconds RetCode: 0 Status: OK PackageFile: msPurity_1.30.1.tar.gz PackageFileSize: 11.29 MiB