Package: msPurity Version: 1.30.0 Command: /home/biocbuild/R/R-beta-2024-04-15_r86425/bin/R CMD build --keep-empty-dirs --no-resave-data msPurity StartedAt: 2024-05-09 01:57:56 -0000 (Thu, 09 May 2024) EndedAt: 2024-05-09 02:10:29 -0000 (Thu, 09 May 2024) EllapsedTime: 753.1 seconds RetCode: 0 Status: OK PackageFile: msPurity_1.30.0.tar.gz PackageFileSize: 11.48 MiB