Package: msPurity Version: 1.30.1 Command: rm -rf msPurity.buildbin-libdir && mkdir msPurity.buildbin-libdir && /Users/biocbuild/BBS/utils/build-universal.sh msPurity_1.30.1.tar.gz /Library/Frameworks/R.framework/Resources/bin/R msPurity.buildbin-libdir StartedAt: 2024-06-11 12:12:28 -0400 (Tue, 11 Jun 2024) EndedAt: 2024-06-11 12:12:56 -0400 (Tue, 11 Jun 2024) EllapsedTime: 28.2 seconds RetCode: 0 Status: OK PackageFile: msPurity_1.30.1.tgz PackageFileSize: 11.41 MiB