Package: msPurity Version: 1.30.1 Command: /Library/Frameworks/R.framework/Resources/bin/R CMD build --keep-empty-dirs --no-resave-data msPurity StartedAt: 2024-10-17 05:13:16 -0400 (Thu, 17 Oct 2024) EndedAt: 2024-10-17 05:23:14 -0400 (Thu, 17 Oct 2024) EllapsedTime: 597.8 seconds RetCode: 0 Status: OK PackageFile: msPurity_1.30.1.tar.gz PackageFileSize: 11.28 MiB