Package: msImpute Version: 1.14.0 Command: rm -rf msImpute.buildbin-libdir && mkdir msImpute.buildbin-libdir && E:\biocbuild\bbs-3.19-bioc\R\bin\R.exe CMD INSTALL --build --library=msImpute.buildbin-libdir msImpute_1.14.0.tar.gz StartedAt: 2024-10-17 08:12:03 -0400 (Thu, 17 Oct 2024) EndedAt: 2024-10-17 08:12:47 -0400 (Thu, 17 Oct 2024) EllapsedTime: 44.0 seconds RetCode: 0 Status: OK PackageFile: msImpute_1.14.0.zip PackageFileSize: 1.983 MiB