Package: msImpute Version: 1.14.0 Command: /home/biocbuild/bbs-3.19-bioc/R/bin/R CMD build --keep-empty-dirs --no-resave-data msImpute StartedAt: 2024-10-16 19:39:55 -0400 (Wed, 16 Oct 2024) EndedAt: 2024-10-16 19:41:05 -0400 (Wed, 16 Oct 2024) EllapsedTime: 70.1 seconds RetCode: 0 Status: OK PackageFile: msImpute_1.14.0.tar.gz PackageFileSize: 1.724 MiB