Package: msImpute Version: 1.14.0 Command: /Library/Frameworks/R.framework/Resources/bin/R CMD build --keep-empty-dirs --no-resave-data msImpute StartedAt: 2024-10-16 21:19:23 -0400 (Wed, 16 Oct 2024) EndedAt: 2024-10-16 21:22:48 -0400 (Wed, 16 Oct 2024) EllapsedTime: 204.8 seconds RetCode: 0 Status: OK PackageFile: msImpute_1.14.0.tar.gz PackageFileSize: 1.888 MiB