Package: msImpute Version: 1.14.0 Command: rm -rf msImpute.buildbin-libdir && mkdir msImpute.buildbin-libdir && /Users/biocbuild/BBS/utils/build-universal.sh msImpute_1.14.0.tar.gz /Library/Frameworks/R.framework/Resources/bin/R msImpute.buildbin-libdir StartedAt: 2024-06-11 12:11:31 -0400 (Tue, 11 Jun 2024) EndedAt: 2024-06-11 12:12:28 -0400 (Tue, 11 Jun 2024) EllapsedTime: 57.2 seconds RetCode: 0 Status: OK PackageFile: msImpute_1.14.0.tgz PackageFileSize: 2.317 MiB