Package: msImpute Version: 1.14.0 Command: /Library/Frameworks/R.framework/Resources/bin/R CMD build --keep-empty-dirs --no-resave-data msImpute StartedAt: 2024-10-17 05:10:01 -0400 (Thu, 17 Oct 2024) EndedAt: 2024-10-17 05:11:47 -0400 (Thu, 17 Oct 2024) EllapsedTime: 105.7 seconds RetCode: 0 Status: OK PackageFile: msImpute_1.14.0.tar.gz PackageFileSize: 1.892 MiB