Package: mpra Version: 1.26.2 Command: rm -rf mpra.buildbin-libdir && mkdir mpra.buildbin-libdir && E:\biocbuild\bbs-3.19-bioc\R\bin\R.exe CMD INSTALL --build --library=mpra.buildbin-libdir mpra_1.26.2.tar.gz StartedAt: 2024-10-17 08:11:24 -0400 (Thu, 17 Oct 2024) EndedAt: 2024-10-17 08:11:52 -0400 (Thu, 17 Oct 2024) EllapsedTime: 27.5 seconds RetCode: 0 Status: OK PackageFile: mpra_1.26.2.zip PackageFileSize: 3.139 MiB