Package: mpra Version: 1.26.2 Command: /home/biocbuild/bbs-3.19-bioc/R/bin/R CMD check --install=check:mpra.install-out.txt --library=/home/biocbuild/bbs-3.19-bioc/R/site-library --timings mpra_1.26.2.tar.gz StartedAt: 2024-10-17 02:44:07 -0400 (Thu, 17 Oct 2024) EndedAt: 2024-10-17 02:47:25 -0400 (Thu, 17 Oct 2024) EllapsedTime: 198.4 seconds RetCode: 0 Status: OK CheckDir: mpra.Rcheck Warnings: 0