Package: mpra Version: 1.26.2 Command: /Library/Frameworks/R.framework/Resources/bin/R CMD INSTALL mpra StartedAt: 2024-10-16 15:18:37 -0400 (Wed, 16 Oct 2024) EndedAt: 2024-10-16 15:19:33 -0400 (Wed, 16 Oct 2024) EllapsedTime: 56.4 seconds RetCode: 0 Status: OK