Package: mpra Version: 1.26.0 Command: rm -rf mpra.buildbin-libdir && mkdir mpra.buildbin-libdir && /Users/biocbuild/BBS/utils/build-universal.sh mpra_1.26.0.tar.gz /Library/Frameworks/R.framework/Resources/bin/R mpra.buildbin-libdir StartedAt: 2024-06-11 12:10:15 -0400 (Tue, 11 Jun 2024) EndedAt: 2024-06-11 12:11:02 -0400 (Tue, 11 Jun 2024) EllapsedTime: 47.5 seconds RetCode: 0 Status: OK PackageFile: mpra_1.26.0.tgz PackageFileSize: 3.495 MiB