Package: mpra Version: 1.26.2 Command: /Library/Frameworks/R.framework/Resources/bin/R CMD build --keep-empty-dirs --no-resave-data mpra StartedAt: 2024-10-17 05:06:05 -0400 (Thu, 17 Oct 2024) EndedAt: 2024-10-17 05:07:03 -0400 (Thu, 17 Oct 2024) EllapsedTime: 58.6 seconds RetCode: 0 Status: OK PackageFile: mpra_1.26.2.tar.gz PackageFileSize: 3.328 MiB