Package: mpra Version: 1.26.2 Maintainer: Leslie Myint MaintainerEmail: leslie.myint at gmail.com git_url: https://git.bioconductor.org/packages/mpra git_branch: RELEASE_3_19 git_last_commit: 0c76bef git_last_commit_date: 2024-07-28 09:04:07 -0400 (Sun, 28 Jul 2024)