Package: motifmatchr Version: 1.26.0 Command: rm -rf motifmatchr.buildbin-libdir && mkdir motifmatchr.buildbin-libdir && /Users/biocbuild/BBS/utils/build-universal.sh motifmatchr_1.26.0.tar.gz /Library/Frameworks/R.framework/Resources/bin/R motifmatchr.buildbin-libdir StartedAt: 2024-10-18 19:34:04 -0400 (Fri, 18 Oct 2024) EndedAt: 2024-10-18 19:35:32 -0400 (Fri, 18 Oct 2024) EllapsedTime: 87.5 seconds RetCode: 0 Status: OK PackageFile: motifmatchr_1.26.0.tgz PackageFileSize: 182.9 KiB