Package: motifcounter Version: 1.28.0 Command: E:\biocbuild\bbs-3.19-bioc\R\bin\R.exe CMD INSTALL motifcounter StartedAt: 2024-10-16 16:17:13 -0400 (Wed, 16 Oct 2024) EndedAt: 2024-10-16 16:17:54 -0400 (Wed, 16 Oct 2024) EllapsedTime: 41.7 seconds RetCode: 0 Status: OK