Package: motifcounter Version: 1.28.0 Command: chmod a+r motifcounter -R && E:\biocbuild\bbs-3.19-bioc\R\bin\R.exe CMD build --keep-empty-dirs --no-resave-data motifcounter StartedAt: 2024-10-16 20:28:07 -0400 (Wed, 16 Oct 2024) EndedAt: 2024-10-16 20:29:19 -0400 (Wed, 16 Oct 2024) EllapsedTime: 72.2 seconds RetCode: 0 Status: OK PackageFile: motifcounter_1.28.0.tar.gz PackageFileSize: 452.8 KiB