Package: motifcounter Version: 1.28.0 Command: rm -rf motifcounter.buildbin-libdir && mkdir motifcounter.buildbin-libdir && E:\biocbuild\bbs-3.19-bioc\R\bin\R.exe CMD INSTALL --build --library=motifcounter.buildbin-libdir motifcounter_1.28.0.tar.gz StartedAt: 2024-10-17 08:10:53 -0400 (Thu, 17 Oct 2024) EndedAt: 2024-10-17 08:11:37 -0400 (Thu, 17 Oct 2024) EllapsedTime: 44.7 seconds RetCode: 0 Status: OK PackageFile: motifcounter_1.28.0.zip PackageFileSize: 686.2 KiB