Package: motifcounter Version: 1.28.0 Command: F:\biocbuild\bbs-3.19-bioc\R\bin\R.exe CMD check --no-multiarch --install=check:motifcounter.install-out.txt --library=F:\biocbuild\bbs-3.19-bioc\R\library --no-vignettes --timings motifcounter_1.28.0.tar.gz StartedAt: 2024-06-27 03:51:21 -0400 (Thu, 27 Jun 2024) EndedAt: 2024-06-27 04:00:38 -0400 (Thu, 27 Jun 2024) EllapsedTime: 556.9 seconds RetCode: 0 Status: OK CheckDir: motifcounter.Rcheck Warnings: 0