Package: motifcounter Version: 1.28.0 Command: chmod a+r motifcounter -R && F:\biocbuild\bbs-3.19-bioc\R\bin\R.exe CMD build --keep-empty-dirs --no-resave-data motifcounter StartedAt: 2024-06-26 20:14:33 -0400 (Wed, 26 Jun 2024) EndedAt: 2024-06-26 20:15:51 -0400 (Wed, 26 Jun 2024) EllapsedTime: 78.8 seconds RetCode: 0 Status: OK PackageFile: motifcounter_1.28.0.tar.gz PackageFileSize: 452.8 KiB