Package: motifcounter Version: 1.28.0 Command: rm -rf motifcounter.buildbin-libdir && mkdir motifcounter.buildbin-libdir && F:\biocbuild\bbs-3.19-bioc\R\bin\R.exe CMD INSTALL --build --library=motifcounter.buildbin-libdir motifcounter_1.28.0.tar.gz StartedAt: 2024-06-27 08:32:28 -0400 (Thu, 27 Jun 2024) EndedAt: 2024-06-27 08:32:57 -0400 (Thu, 27 Jun 2024) EllapsedTime: 29.2 seconds RetCode: 0 Status: OK PackageFile: motifcounter_1.28.0.zip PackageFileSize: 685.5 KiB