Package: motifcounter Version: 1.28.0 Command: /Library/Frameworks/R.framework/Resources/bin/R CMD check --install=check:motifcounter.install-out.txt --library=/Library/Frameworks/R.framework/Resources/library --no-vignettes --timings motifcounter_1.28.0.tar.gz StartedAt: 2024-10-17 09:13:31 -0400 (Thu, 17 Oct 2024) EndedAt: 2024-10-17 09:30:12 -0400 (Thu, 17 Oct 2024) EllapsedTime: 1000.9 seconds RetCode: 0 Status: OK CheckDir: motifcounter.Rcheck Warnings: 0