Package: motifcounter Version: 1.28.0 Command: /Library/Frameworks/R.framework/Resources/bin/R CMD build --keep-empty-dirs --no-resave-data motifcounter StartedAt: 2024-10-16 21:13:18 -0400 (Wed, 16 Oct 2024) EndedAt: 2024-10-16 21:16:35 -0400 (Wed, 16 Oct 2024) EllapsedTime: 197.3 seconds RetCode: 0 Status: OK PackageFile: motifcounter_1.28.0.tar.gz PackageFileSize: 611.1 KiB