Package: motifcounter Version: 1.28.0 Command: /Library/Frameworks/R.framework/Resources/bin/R CMD check --install=check:motifcounter.install-out.txt --library=/Library/Frameworks/R.framework/Resources/library --no-vignettes --timings motifcounter_1.28.0.tar.gz StartedAt: 2024-06-09 21:40:35 -0400 (Sun, 09 Jun 2024) EndedAt: 2024-06-09 21:43:59 -0400 (Sun, 09 Jun 2024) EllapsedTime: 203.6 seconds RetCode: 0 Status: OK CheckDir: motifcounter.Rcheck Warnings: 0