Package: motifcounter Version: 1.28.0 Command: /Library/Frameworks/R.framework/Resources/bin/R CMD build --keep-empty-dirs --no-resave-data motifcounter StartedAt: 2024-06-09 17:22:24 -0400 (Sun, 09 Jun 2024) EndedAt: 2024-06-09 17:24:18 -0400 (Sun, 09 Jun 2024) EllapsedTime: 113.9 seconds RetCode: 0 Status: OK PackageFile: motifcounter_1.28.0.tar.gz PackageFileSize: 611.1 KiB