Package: motifcounter Version: 1.28.0 Command: /Library/Frameworks/R.framework/Resources/bin/R CMD check --install=check:motifcounter.install-out.txt --library=/Library/Frameworks/R.framework/Resources/library --no-vignettes --timings motifcounter_1.28.0.tar.gz StartedAt: 2024-10-18 04:48:11 -0400 (Fri, 18 Oct 2024) EndedAt: 2024-10-18 04:51:42 -0400 (Fri, 18 Oct 2024) EllapsedTime: 210.5 seconds RetCode: 0 Status: OK CheckDir: motifcounter.Rcheck Warnings: 0