Package: motifcounter Version: 1.28.0 Command: rm -rf motifcounter.buildbin-libdir && mkdir motifcounter.buildbin-libdir && /Users/biocbuild/BBS/utils/build-universal.sh motifcounter_1.28.0.tar.gz /Library/Frameworks/R.framework/Resources/bin/R motifcounter.buildbin-libdir StartedAt: 2024-10-18 19:34:00 -0400 (Fri, 18 Oct 2024) EndedAt: 2024-10-18 19:34:23 -0400 (Fri, 18 Oct 2024) EllapsedTime: 23.0 seconds RetCode: 0 Status: OK PackageFile: motifcounter_1.28.0.tgz PackageFileSize: 735.8 KiB