Package: motifbreakR Version: 2.18.0 Command: chmod a+r motifbreakR -R && E:\biocbuild\bbs-3.19-bioc\R\bin\R.exe CMD build --keep-empty-dirs --no-resave-data motifbreakR StartedAt: 2024-10-16 20:27:53 -0400 (Wed, 16 Oct 2024) EndedAt: 2024-10-16 20:40:10 -0400 (Wed, 16 Oct 2024) EllapsedTime: 736.8 seconds RetCode: 0 Status: OK PackageFile: motifbreakR_2.18.0.tar.gz PackageFileSize: 2.013 MiB