Package: motifbreakR Version: 2.18.0 Command: rm -rf motifbreakR.buildbin-libdir && mkdir motifbreakR.buildbin-libdir && F:\biocbuild\bbs-3.19-bioc\R\bin\R.exe CMD INSTALL --build --library=motifbreakR.buildbin-libdir motifbreakR_2.18.0.tar.gz StartedAt: 2024-05-07 05:40:24 -0400 (Tue, 07 May 2024) EndedAt: 2024-05-07 05:42:00 -0400 (Tue, 07 May 2024) EllapsedTime: 95.2 seconds RetCode: 0 Status: OK PackageFile: motifbreakR_2.18.0.zip PackageFileSize: 1.95 MiB