Package: motifbreakR Version: 2.18.0 Command: /Library/Frameworks/R.framework/Resources/bin/R CMD INSTALL motifbreakR StartedAt: 2024-10-16 16:10:14 -0400 (Wed, 16 Oct 2024) EndedAt: 2024-10-16 16:12:49 -0400 (Wed, 16 Oct 2024) EllapsedTime: 155.2 seconds RetCode: 0 Status: OK