Package: motifbreakR Version: 2.18.0 Command: /Library/Frameworks/R.framework/Resources/bin/R CMD check --install=check:motifbreakR.install-out.txt --library=/Library/Frameworks/R.framework/Resources/library --no-vignettes --timings motifbreakR_2.18.0.tar.gz StartedAt: 2024-10-17 09:12:47 -0400 (Thu, 17 Oct 2024) EndedAt: 2024-10-17 09:49:33 -0400 (Thu, 17 Oct 2024) EllapsedTime: 2206.1 seconds RetCode: 0 Status: WARNINGS CheckDir: motifbreakR.Rcheck Warnings: 1