Package: motifbreakR Version: 2.18.0 Command: /Library/Frameworks/R.framework/Resources/bin/R CMD build --keep-empty-dirs --no-resave-data motifbreakR StartedAt: 2024-10-16 21:12:55 -0400 (Wed, 16 Oct 2024) EndedAt: 2024-10-16 21:31:13 -0400 (Wed, 16 Oct 2024) EllapsedTime: 1098.2 seconds RetCode: 0 Status: OK PackageFile: motifbreakR_2.18.0.tar.gz PackageFileSize: 2.457 MiB