Package: motifbreakR Version: 2.18.0 Command: /Library/Frameworks/R.framework/Resources/bin/R CMD check --install=check:motifbreakR.install-out.txt --library=/Library/Frameworks/R.framework/Resources/library --no-vignettes --timings motifbreakR_2.18.0.tar.gz StartedAt: 2024-06-09 21:40:20 -0400 (Sun, 09 Jun 2024) EndedAt: 2024-06-09 21:51:16 -0400 (Sun, 09 Jun 2024) EllapsedTime: 655.9 seconds RetCode: 0 Status: WARNINGS CheckDir: motifbreakR.Rcheck Warnings: 1