Package: motifbreakR Version: 2.18.0 Command: rm -rf motifbreakR.buildbin-libdir && mkdir motifbreakR.buildbin-libdir && /Users/biocbuild/BBS/utils/build-universal.sh motifbreakR_2.18.0.tar.gz /Library/Frameworks/R.framework/Resources/bin/R motifbreakR.buildbin-libdir StartedAt: 2024-06-11 12:08:50 -0400 (Tue, 11 Jun 2024) EndedAt: 2024-06-11 12:11:05 -0400 (Tue, 11 Jun 2024) EllapsedTime: 135.2 seconds RetCode: 0 Status: OK PackageFile: motifbreakR_2.18.0.tgz PackageFileSize: 2.386 MiB