Package: motifTestR Version: 1.0.3 Command: E:\biocbuild\bbs-3.19-bioc\R\bin\R.exe CMD INSTALL motifTestR StartedAt: 2024-10-16 16:16:14 -0400 (Wed, 16 Oct 2024) EndedAt: 2024-10-16 16:16:39 -0400 (Wed, 16 Oct 2024) EllapsedTime: 24.5 seconds RetCode: 0 Status: OK