Package: motifTestR Version: 1.0.3 Command: chmod a+r motifTestR -R && E:\biocbuild\bbs-3.19-bioc\R\bin\R.exe CMD build --keep-empty-dirs --no-resave-data motifTestR StartedAt: 2024-10-16 20:29:04 -0400 (Wed, 16 Oct 2024) EndedAt: 2024-10-16 20:30:11 -0400 (Wed, 16 Oct 2024) EllapsedTime: 66.9 seconds RetCode: 0 Status: OK PackageFile: motifTestR_1.0.3.tar.gz PackageFileSize: 565.3 KiB